BEGIN:VCALENDAR
VERSION:2.0
PRODID:-//Klub Żołnierzy Rezerwy i Kolekcjonerów Broni VIS Nisko - ECPv6.8.2.1//NONSGML v1.0//EN
CALSCALE:GREGORIAN
METHOD:PUBLISH
X-ORIGINAL-URL:https://visnisko.pl
X-WR-CALDESC:Wydarzenia dla Klub Żołnierzy Rezerwy i Kolekcjonerów Broni VIS Nisko
REFRESH-INTERVAL;VALUE=DURATION:PT1H
X-Robots-Tag:noindex
X-PUBLISHED-TTL:PT1H
BEGIN:VTIMEZONE
TZID:Europe/Warsaw
BEGIN:DAYLIGHT
TZOFFSETFROM:+0100
TZOFFSETTO:+0200
TZNAME:CEST
DTSTART:20240331T010000
END:DAYLIGHT
BEGIN:STANDARD
TZOFFSETFROM:+0200
TZOFFSETTO:+0100
TZNAME:CET
DTSTART:20241027T010000
END:STANDARD
BEGIN:DAYLIGHT
TZOFFSETFROM:+0100
TZOFFSETTO:+0200
TZNAME:CEST
DTSTART:20250330T010000
END:DAYLIGHT
BEGIN:STANDARD
TZOFFSETFROM:+0200
TZOFFSETTO:+0100
TZNAME:CET
DTSTART:20251026T010000
END:STANDARD
END:VTIMEZONE
BEGIN:VEVENT
DTSTART;TZID=Europe/Warsaw:20250830T090000
DTEND;TZID=Europe/Warsaw:20250830T130000
DTSTAMP:20260421T115456
CREATED:20250410T060449Z
LAST-MODIFIED:20250410T060449Z
UID:869-1756544400-1756558800@visnisko.pl
SUMMARY:STRZELNICA LOK – STALOWA WOLA
DESCRIPTION:
URL:https://visnisko.pl/index.php/wydarzenie/strzelnica-lok-stalowa-wola-11/
LOCATION:Strzelnica LOK\, Energetyków 5\, Stalowa Wola\, Podkarpackie\, 37-450\, Poland
END:VEVENT
BEGIN:VEVENT
DTSTART;TZID=Europe/Warsaw:20250809T080000
DTEND;TZID=Europe/Warsaw:20250809T130000
DTSTAMP:20260421T115456
CREATED:20250410T061121Z
LAST-MODIFIED:20250410T061121Z
UID:885-1754726400-1754744400@visnisko.pl
SUMMARY:STRZELNICA WOJSKOWA - NISKO MOSKALE
DESCRIPTION:
URL:https://visnisko.pl/index.php/wydarzenie/strzelnica-wojskowa-nisko-moskale-5/
LOCATION:Strzelnica Wojskowa\, Moskale\, Nisko\, Podkarpackie\, 37-400\, Poland
END:VEVENT
BEGIN:VEVENT
DTSTART;TZID=Europe/Warsaw:20250802T090000
DTEND;TZID=Europe/Warsaw:20250802T130000
DTSTAMP:20260421T115456
CREATED:20250410T060407Z
LAST-MODIFIED:20250410T060407Z
UID:867-1754125200-1754139600@visnisko.pl
SUMMARY:STRZELNICA LOK – STALOWA WOLA
DESCRIPTION:
URL:https://visnisko.pl/index.php/wydarzenie/strzelnica-lok-stalowa-wola-10/
LOCATION:Strzelnica LOK\, Energetyków 5\, Stalowa Wola\, Podkarpackie\, 37-450\, Poland
END:VEVENT
BEGIN:VEVENT
DTSTART;TZID=Europe/Warsaw:20250719T090000
DTEND;TZID=Europe/Warsaw:20250719T130000
DTSTAMP:20260421T115456
CREATED:20250410T060325Z
LAST-MODIFIED:20250410T060325Z
UID:865-1752915600-1752930000@visnisko.pl
SUMMARY:STRZELNICA LOK – STALOWA WOLA
DESCRIPTION:
URL:https://visnisko.pl/index.php/wydarzenie/strzelnica-lok-stalowa-wola-9/
LOCATION:Strzelnica LOK\, Energetyków 5\, Stalowa Wola\, Podkarpackie\, 37-450\, Poland
END:VEVENT
BEGIN:VEVENT
DTSTART;TZID=Europe/Warsaw:20250705T090000
DTEND;TZID=Europe/Warsaw:20250705T130000
DTSTAMP:20260421T115456
CREATED:20250410T060239Z
LAST-MODIFIED:20250410T060239Z
UID:863-1751706000-1751720400@visnisko.pl
SUMMARY:STRZELNICA LOK – STALOWA WOLA
DESCRIPTION:
URL:https://visnisko.pl/index.php/wydarzenie/strzelnica-lok-stalowa-wola-8/
LOCATION:Strzelnica LOK\, Energetyków 5\, Stalowa Wola\, Podkarpackie\, 37-450\, Poland
END:VEVENT
BEGIN:VEVENT
DTSTART;TZID=Europe/Warsaw:20250621T080000
DTEND;TZID=Europe/Warsaw:20250621T130000
DTSTAMP:20260421T115456
CREATED:20250410T061043Z
LAST-MODIFIED:20250410T061043Z
UID:883-1750492800-1750510800@visnisko.pl
SUMMARY:STRZELNICA WOJSKOWA - NISKO MOSKALE
DESCRIPTION:
URL:https://visnisko.pl/index.php/wydarzenie/strzelnica-wojskowa-nisko-moskale-4/
LOCATION:Strzelnica Wojskowa\, Moskale\, Nisko\, Podkarpackie\, 37-400\, Poland
END:VEVENT
BEGIN:VEVENT
DTSTART;TZID=Europe/Warsaw:20250614T090000
DTEND;TZID=Europe/Warsaw:20250614T130000
DTSTAMP:20260421T115456
CREATED:20250410T060205Z
LAST-MODIFIED:20250410T060205Z
UID:861-1749891600-1749906000@visnisko.pl
SUMMARY:STRZELNICA LOK – STALOWA WOLA
DESCRIPTION:
URL:https://visnisko.pl/index.php/wydarzenie/strzelnica-lok-stalowa-wola-7/
LOCATION:Strzelnica LOK\, Energetyków 5\, Stalowa Wola\, Podkarpackie\, 37-450\, Poland
END:VEVENT
BEGIN:VEVENT
DTSTART;TZID=Europe/Warsaw:20250607T090000
DTEND;TZID=Europe/Warsaw:20250607T130000
DTSTAMP:20260421T115456
CREATED:20250410T060129Z
LAST-MODIFIED:20250410T060129Z
UID:859-1749286800-1749301200@visnisko.pl
SUMMARY:STRZELNICA LOK – STALOWA WOLA
DESCRIPTION:
URL:https://visnisko.pl/index.php/wydarzenie/strzelnica-lok-stalowa-wola-6/
LOCATION:Strzelnica LOK\, Energetyków 5\, Stalowa Wola\, Podkarpackie\, 37-450\, Poland
END:VEVENT
BEGIN:VEVENT
DTSTART;TZID=Europe/Warsaw:20250517T090000
DTEND;TZID=Europe/Warsaw:20250517T130000
DTSTAMP:20260421T115456
CREATED:20250410T060050Z
LAST-MODIFIED:20250410T060050Z
UID:857-1747472400-1747486800@visnisko.pl
SUMMARY:STRZELNICA LOK – STALOWA WOLA
DESCRIPTION:
URL:https://visnisko.pl/index.php/wydarzenie/strzelnica-lok-stalowa-wola-5/
LOCATION:Strzelnica LOK\, Energetyków 5\, Stalowa Wola\, Podkarpackie\, 37-450\, Poland
END:VEVENT
BEGIN:VEVENT
DTSTART;TZID=Europe/Warsaw:20250510T080000
DTEND;TZID=Europe/Warsaw:20250510T130000
DTSTAMP:20260421T115456
CREATED:20250410T061010Z
LAST-MODIFIED:20250410T061010Z
UID:881-1746864000-1746882000@visnisko.pl
SUMMARY:STRZELNICA WOJSKOWA - NISKO MOSKALE
DESCRIPTION:
URL:https://visnisko.pl/index.php/wydarzenie/strzelnica-wojskowa-nisko-moskale-3/
LOCATION:Strzelnica Wojskowa\, Moskale\, Nisko\, Podkarpackie\, 37-400\, Poland
END:VEVENT
BEGIN:VEVENT
DTSTART;TZID=Europe/Warsaw:20250419T090000
DTEND;TZID=Europe/Warsaw:20250419T130000
DTSTAMP:20260421T115456
CREATED:20250410T055911Z
LAST-MODIFIED:20250410T055911Z
UID:855-1745053200-1745067600@visnisko.pl
SUMMARY:STRZELNICA LOK - STALOWA WOLA
DESCRIPTION:
URL:https://visnisko.pl/index.php/wydarzenie/strzelnica-lok-stalowa-wola-4/
LOCATION:Strzelnica LOK\, Energetyków 5\, Stalowa Wola\, Podkarpackie\, 37-450\, Poland
END:VEVENT
BEGIN:VEVENT
DTSTART;TZID=Europe/Warsaw:20241228T090000
DTEND;TZID=Europe/Warsaw:20241228T130000
DTSTAMP:20260421T115456
CREATED:20241127T081431Z
LAST-MODIFIED:20241128T124705Z
UID:522-1735376400-1735390800@visnisko.pl
SUMMARY:STRZELNICA LOK - STALOWA WOLA
DESCRIPTION:
URL:https://visnisko.pl/index.php/wydarzenie/strzelnica-lok-stalowa-wola-3/
LOCATION:Strzelnica LOK\, Energetyków 5\, Stalowa Wola\, Podkarpackie\, 37-450\, Poland
END:VEVENT
BEGIN:VEVENT
DTSTART;TZID=Europe/Warsaw:20241221T083000
DTEND;TZID=Europe/Warsaw:20241221T130000
DTSTAMP:20260421T115456
CREATED:20241127T080804Z
LAST-MODIFIED:20241128T124725Z
UID:513-1734769800-1734786000@visnisko.pl
SUMMARY:STRZELNICA WOJSKOWA - NISKO MOSKALE
DESCRIPTION:
URL:https://visnisko.pl/index.php/wydarzenie/strzelnica-wojskowa-nisko-moskale-2/
LOCATION:Strzelnica Wojskowa\, Moskale\, Nisko\, Podkarpackie\, 37-400\, Poland
END:VEVENT
BEGIN:VEVENT
DTSTART;TZID=Europe/Warsaw:20241214T090000
DTEND;TZID=Europe/Warsaw:20241214T130000
DTSTAMP:20260421T115456
CREATED:20241127T081403Z
LAST-MODIFIED:20241128T124734Z
UID:520-1734166800-1734181200@visnisko.pl
SUMMARY:STRZELNICA LOK - STALOWA WOLA
DESCRIPTION:
URL:https://visnisko.pl/index.php/wydarzenie/strzelnica-lok-stalowa-wola-2/
LOCATION:Strzelnica LOK\, Energetyków 5\, Stalowa Wola\, Podkarpackie\, 37-450\, Poland
END:VEVENT
BEGIN:VEVENT
DTSTART;TZID=Europe/Warsaw:20241207T083000
DTEND;TZID=Europe/Warsaw:20241207T130000
DTSTAMP:20260421T115456
CREATED:20241127T064239Z
LAST-MODIFIED:20241128T124740Z
UID:496-1733560200-1733576400@visnisko.pl
SUMMARY:STRZELNICA WOJSKOWA - NISKO MOSKALE
DESCRIPTION:
URL:https://visnisko.pl/index.php/wydarzenie/strzelnica-wojskowa-nisko-moskale/
LOCATION:Strzelnica Wojskowa\, Moskale\, Nisko\, Podkarpackie\, 37-400\, Poland
END:VEVENT
BEGIN:VEVENT
DTSTART;TZID=Europe/Warsaw:20241130T090000
DTEND;TZID=Europe/Warsaw:20241130T130000
DTSTAMP:20260421T115456
CREATED:20241127T081259Z
LAST-MODIFIED:20241128T124746Z
UID:515-1732957200-1732971600@visnisko.pl
SUMMARY:STRZELNICA LOK - STALOWA WOLA
DESCRIPTION:
URL:https://visnisko.pl/index.php/wydarzenie/strzelnica-lok-stalowa-wola/
LOCATION:Strzelnica LOK\, Energetyków 5\, Stalowa Wola\, Podkarpackie\, 37-450\, Poland
END:VEVENT
END:VCALENDAR